BEGIN:VCALENDAR
VERSION:2.0
PRODID:-//Stars Men&#039;s Club - ECPv6.15.20//NONSGML v1.0//EN
CALSCALE:GREGORIAN
METHOD:PUBLISH
X-ORIGINAL-URL:https://starsmensclub.com
X-WR-CALDESC:Events for Stars Men&#039;s Club
REFRESH-INTERVAL;VALUE=DURATION:PT1H
X-Robots-Tag:noindex
X-PUBLISHED-TTL:PT1H
BEGIN:VTIMEZONE
TZID:America/New_York
BEGIN:DAYLIGHT
TZOFFSETFROM:-0500
TZOFFSETTO:-0400
TZNAME:EDT
DTSTART:20230312T070000
END:DAYLIGHT
BEGIN:STANDARD
TZOFFSETFROM:-0400
TZOFFSETTO:-0500
TZNAME:EST
DTSTART:20231105T060000
END:STANDARD
BEGIN:DAYLIGHT
TZOFFSETFROM:-0500
TZOFFSETTO:-0400
TZNAME:EDT
DTSTART:20240310T070000
END:DAYLIGHT
BEGIN:STANDARD
TZOFFSETFROM:-0400
TZOFFSETTO:-0500
TZNAME:EST
DTSTART:20241103T060000
END:STANDARD
BEGIN:DAYLIGHT
TZOFFSETFROM:-0500
TZOFFSETTO:-0400
TZNAME:EDT
DTSTART:20250309T070000
END:DAYLIGHT
BEGIN:STANDARD
TZOFFSETFROM:-0400
TZOFFSETTO:-0500
TZNAME:EST
DTSTART:20251102T060000
END:STANDARD
BEGIN:DAYLIGHT
TZOFFSETFROM:-0500
TZOFFSETTO:-0400
TZNAME:EDT
DTSTART:20260308T070000
END:DAYLIGHT
BEGIN:STANDARD
TZOFFSETFROM:-0400
TZOFFSETTO:-0500
TZNAME:EST
DTSTART:20261101T060000
END:STANDARD
END:VTIMEZONE
BEGIN:VEVENT
DTSTART;TZID=America/New_York:20250207T130000
DTEND;TZID=America/New_York:20250208T020000
DTSTAMP:20260421T193637
CREATED:20250130T200050Z
LAST-MODIFIED:20250130T200520Z
UID:10000036-1738933200-1738980000@starsmensclub.com
SUMMARY:Heroes And Villains Party!
DESCRIPTION:Calling all MegaCon Orlando attendees—get ready to bring the action to Stars Men’s Club on Friday\, February 7th! Starting at 1 PM\, our Heroes and Villains Cosplay Party is the ultimate destination to keep the fun going after the convention. \nShow your MegaCon pass for complimentary cover and join the biggest heroes\, baddest villains\, and boldest partygoers for an unforgettable celebration. With hookah\, free parking\, premium bottles\, and an electrifying atmosphere\, Stars is where the adventure continues. \nSuit up and join us for the ultimate post-convention experience—see you there!
URL:https://starsmensclub.com/event/heroes-and-villains-party/
LOCATION:Stars Men’s Club\, 5581 S Orange Blossom Trail\, Orlando\, FL\, 32839\, United States
CATEGORIES:Club,Costume Party,dayshift,Party
ATTACH;FMTTYPE=image/jpeg:https://starsmensclub.com/wp-content/uploads/2025/01/Stars_Heroes_Villains_Party_02072025.jpg
END:VEVENT
BEGIN:VEVENT
DTSTART;TZID=America/New_York:20250202T130000
DTEND;TZID=America/New_York:20250202T130000
DTSTAMP:20260421T193637
CREATED:20250130T195308Z
LAST-MODIFIED:20250130T195536Z
UID:10000034-1738501200-1738501200@starsmensclub.com
SUMMARY:Probowl Party at Stars!
DESCRIPTION:This Sunday\, February 2nd\, Stars Men’s Club is the ultimate spot to catch all the Pro Bowl action! Whether you’re joining us before\, during\, or after the game\, we’ve got everything you need to keep the party going. \nDoors open at 1 PM\, so come enjoy an unbeatable atmosphere\, hookah\, free parking\, premium bottles\, and\, of course\, the best entertainment in Orlando. \nDon’t settle for an average game day—make your Pro Bowl Sunday unforgettable at Stars!
URL:https://starsmensclub.com/event/probowl-party-at-stars/
LOCATION:Stars Men’s Club\, 5581 S Orange Blossom Trail\, Orlando\, FL\, 32839\, United States
CATEGORIES:Club,drink specials,football,NFL,Party
ATTACH;FMTTYPE=image/jpeg:https://starsmensclub.com/wp-content/uploads/2025/01/Stars_Probowl_Party_02022025.jpg
END:VEVENT
BEGIN:VEVENT
DTSTART;TZID=America/New_York:20250125T220000
DTEND;TZID=America/New_York:20250126T000000
DTSTAMP:20260421T193637
CREATED:20250123T162356Z
LAST-MODIFIED:20250124T160643Z
UID:10000032-1737842400-1737849600@starsmensclub.com
SUMMARY:Customer Appreciation Party
DESCRIPTION:Join us at Stars for a night dedicated to YOU\, our amazing guests! We’re throwing a Customer Appreciation Party to celebrate the people who make every night unforgettable. \nEnjoy an open bar from 10 PM to midnight for just $25 admission\, plus the world-class atmosphere you love. Whether you’re here to relax\, celebrate\, or party the night away\, this night is all about honoring your support and loyalty. \nDon’t miss out—doors open early at 1 PM\, so come out and enjoy our new daytime hours! With free parking\, hookah\, premium bottle service\, and the best vibes in Orlando\, you know it’s going to be a night to remember. \nLet us show our gratitude in style—see you Saturday\, January 25th!
URL:https://starsmensclub.com/event/customer-appreciation-party/
LOCATION:Stars Men’s Club\, 5581 S Orange Blossom Trail\, Orlando\, FL\, 32839\, United States
CATEGORIES:Club,Party
ATTACH;FMTTYPE=image/jpeg:https://starsmensclub.com/wp-content/uploads/2025/01/Stars_Customer_Appreciation_Party_01252025a.jpg
END:VEVENT
BEGIN:VEVENT
DTSTART;TZID=America/New_York:20250123T130000
DTEND;TZID=America/New_York:20250124T020000
DTSTAMP:20260421T193637
CREATED:20250123T162946Z
LAST-MODIFIED:20250123T163044Z
UID:10000033-1737637200-1737684000@starsmensclub.com
SUMMARY:Dayshift Is Here!
DESCRIPTION:
URL:https://starsmensclub.com/event/dayshift-is-here/
LOCATION:Stars Men’s Club\, 5581 S Orange Blossom Trail\, Orlando\, FL\, 32839\, United States
CATEGORIES:Club,dayshift,drink specials
ATTACH;FMTTYPE=image/jpeg:https://starsmensclub.com/wp-content/uploads/2025/01/Stars_Dayshift_Specials_1_01232025.jpg
END:VEVENT
BEGIN:VEVENT
DTSTART;TZID=America/New_York:20250117T200000
DTEND;TZID=America/New_York:20250118T020000
DTSTAMP:20260421T193637
CREATED:20250108T215454Z
LAST-MODIFIED:20250108T215454Z
UID:10000031-1737144000-1737165600@starsmensclub.com
SUMMARY:VIP Birthday Bash
DESCRIPTION:It’s time to celebrate like royalty! Join us as we turn up for our VIP’s special night with the hottest ladies\, bottles popping\, and money raining! Let’s get lit\, make memories\, and keep the party on and poppin’ all night long. You don’t want to miss this exclusive celebration—let’s make it legendary! 🍾💸🔥
URL:https://starsmensclub.com/event/vip-birthday-bash/
LOCATION:Stars Men’s Club\, 5581 S Orange Blossom Trail\, Orlando\, FL\, 32839\, United States
CATEGORIES:birthday,Club,Party
ATTACH;FMTTYPE=image/jpeg:https://starsmensclub.com/wp-content/uploads/2025/01/Stars_TMG_Nephews_Birthday_01172025.jpg
END:VEVENT
BEGIN:VEVENT
DTSTART;TZID=America/New_York:20250110T200000
DTEND;TZID=America/New_York:20250111T020000
DTSTAMP:20260421T193637
CREATED:20250106T222333Z
LAST-MODIFIED:20250106T222333Z
UID:10000030-1736539200-1736560800@starsmensclub.com
SUMMARY:🏁 CARTEL'S BIRTHDAY BASH AT STARS MEN'S CLUB! 🏁
DESCRIPTION:This Friday night\, we’re shifting into high gear for Cartel’s Birthday Bash! Doors open at 8 PM\, and it’s all about fast rides\, sexy vibes\, and unforgettable fun. \n🔥 Custom Car Theme – Think Dodge Hellcats and racing dreams.\n🍹 Drinks Flowing – Sip on your favorites while the party revs up.\n💃 Gorgeous Girls – Turning up the heat all night long.\n🎶 Music Vibes – Setting the tone for a high-octane celebration. \nDon’t miss the ultimate nightlife race to celebrate Cartel’s big day. Let’s party like champions this Friday at Stars Men’s Club! \n🏎️ Ready\, set\, PARTY! 🏎️
URL:https://starsmensclub.com/event/%f0%9f%8f%81-cartels-birthday-bash-at-stars-mens-club-%f0%9f%8f%81/
LOCATION:Stars Men’s Club\, 5581 S Orange Blossom Trail\, Orlando\, FL\, 32839\, United States
CATEGORIES:birthday,Club,custom cars,Party
ATTACH;FMTTYPE=image/jpeg:https://starsmensclub.com/wp-content/uploads/2025/01/Stars_Cartels_Birthday_01102025.jpg
END:VEVENT
BEGIN:VEVENT
DTSTART;TZID=America/New_York:20241231T200000
DTEND;TZID=America/New_York:20250101T020000
DTSTAMP:20260421T193637
CREATED:20241231T161411Z
LAST-MODIFIED:20241231T161412Z
UID:10000029-1735675200-1735696800@starsmensclub.com
SUMMARY:🎆✨ New Year’s Eve Magic Awaits! ✨🎆
DESCRIPTION:Tonight\, join us at the hottest gentlemen’s club in Orlando for an unforgettable celebration! Sexy\, cool\, and irresistible—our stunning entertainers and laid-back vibes create the perfect atmosphere to welcome 2025.\n\n\n\n\n\n\n\n\n\n\n🍸 Chill\, relax\, and let the night work its magic. Don’t miss the sexiest party of the year! \n🎉 Cheers to 2025—see you here! 🥂 \n#NYEOrlando #HottestVibes #CheersTo2025
URL:https://starsmensclub.com/event/%f0%9f%8e%86%e2%9c%a8-new-years-eve-magic-awaits-%e2%9c%a8%f0%9f%8e%86/
LOCATION:Stars Men’s Club\, 5581 S Orange Blossom Trail\, Orlando\, FL\, 32839\, United States
CATEGORIES:Club,New Year's Eve,Party
ATTACH;FMTTYPE=image/jpeg:https://starsmensclub.com/wp-content/uploads/2024/12/Stars_NYE_Party_12312024-1.jpg
END:VEVENT
BEGIN:VEVENT
DTSTART;TZID=America/New_York:20241227T200000
DTEND;TZID=America/New_York:20241228T020000
DTSTAMP:20260421T193638
CREATED:20241212T182129Z
LAST-MODIFIED:20241216T053516Z
UID:10000023-1735329600-1735351200@starsmensclub.com
SUMMARY:Yella's Birthday Celebration!
DESCRIPTION:Come celebrate Yella’s birthday! \n$10 Patron drinks all night!
URL:https://starsmensclub.com/event/yellas-birthday-celebration/
LOCATION:Stars Men’s Club\, 5581 S Orange Blossom Trail\, Orlando\, FL\, 32839\, United States
CATEGORIES:birthday,Club
ATTACH;FMTTYPE=image/jpeg:https://starsmensclub.com/wp-content/uploads/2024/12/Stars_Yellas_Birthday_12272024.jpg
END:VEVENT
BEGIN:VEVENT
DTSTART;TZID=America/New_York:20241225T200000
DTEND;TZID=America/New_York:20241226T020000
DTSTAMP:20260421T193638
CREATED:20241220T160051Z
LAST-MODIFIED:20241220T160051Z
UID:10000027-1735156800-1735178400@starsmensclub.com
SUMMARY:Naughty or Nice Christmas Party - Christmas Night!
DESCRIPTION:
URL:https://starsmensclub.com/event/naughty-or-nice-christmas-party-christmas-night/
LOCATION:Stars Men’s Club\, 5581 S Orange Blossom Trail\, Orlando\, FL\, 32839\, United States
CATEGORIES:Club,Party
ATTACH;FMTTYPE=image/jpeg:https://starsmensclub.com/wp-content/uploads/2024/12/Stars_Naughty_or_Nice_Party_12252024.jpg
END:VEVENT
BEGIN:VEVENT
DTSTART;TZID=America/New_York:20241224T200000
DTEND;TZID=America/New_York:20241225T020000
DTSTAMP:20260421T193638
CREATED:20241220T155039Z
LAST-MODIFIED:20241220T155212Z
UID:10000026-1735070400-1735092000@starsmensclub.com
SUMMARY:Christmas Eve Party At Stars!
DESCRIPTION:
URL:https://starsmensclub.com/event/christmas-eve-party-at-stars/
LOCATION:Stars Men’s Club\, 5581 S Orange Blossom Trail\, Orlando\, FL\, 32839\, United States
CATEGORIES:Club,Party
ATTACH;FMTTYPE=image/jpeg:https://starsmensclub.com/wp-content/uploads/2024/12/Stars_Christmas_Eve_Party_12242024.jpg
END:VEVENT
END:VCALENDAR