BEGIN:VCALENDAR
VERSION:2.0
PRODID:-//Stars Men&#039;s Club - ECPv6.15.20//NONSGML v1.0//EN
CALSCALE:GREGORIAN
METHOD:PUBLISH
X-WR-CALNAME:Stars Men&#039;s Club
X-ORIGINAL-URL:https://starsmensclub.com
X-WR-CALDESC:Events for Stars Men&#039;s Club
REFRESH-INTERVAL;VALUE=DURATION:PT1H
X-Robots-Tag:noindex
X-PUBLISHED-TTL:PT1H
BEGIN:VTIMEZONE
TZID:America/New_York
BEGIN:DAYLIGHT
TZOFFSETFROM:-0500
TZOFFSETTO:-0400
TZNAME:EDT
DTSTART:20240310T070000
END:DAYLIGHT
BEGIN:STANDARD
TZOFFSETFROM:-0400
TZOFFSETTO:-0500
TZNAME:EST
DTSTART:20241103T060000
END:STANDARD
BEGIN:DAYLIGHT
TZOFFSETFROM:-0500
TZOFFSETTO:-0400
TZNAME:EDT
DTSTART:20250309T070000
END:DAYLIGHT
BEGIN:STANDARD
TZOFFSETFROM:-0400
TZOFFSETTO:-0500
TZNAME:EST
DTSTART:20251102T060000
END:STANDARD
BEGIN:DAYLIGHT
TZOFFSETFROM:-0500
TZOFFSETTO:-0400
TZNAME:EDT
DTSTART:20260308T070000
END:DAYLIGHT
BEGIN:STANDARD
TZOFFSETFROM:-0400
TZOFFSETTO:-0500
TZNAME:EST
DTSTART:20261101T060000
END:STANDARD
BEGIN:DAYLIGHT
TZOFFSETFROM:-0500
TZOFFSETTO:-0400
TZNAME:EDT
DTSTART:20270314T070000
END:DAYLIGHT
BEGIN:STANDARD
TZOFFSETFROM:-0400
TZOFFSETTO:-0500
TZNAME:EST
DTSTART:20271107T060000
END:STANDARD
END:VTIMEZONE
BEGIN:VEVENT
DTSTART;TZID=America/New_York:20260213T200000
DTEND;TZID=America/New_York:20260213T200000
DTSTAMP:20260421T082509
CREATED:20260206T165728Z
LAST-MODIFIED:20260206T165728Z
UID:10000200-1771012800-1771012800@starsmensclub.com
SUMMARY:Pre-Valentine's Lingerie Party
DESCRIPTION:Seduction sets the tone at Stars on Friday\, February 13th with our Pre Valentine’s Lingerie Party. Get an early start on Valentine’s weekend with sultry looks\, irresistible energy\, and a crowd ready to turn up the heat. \nDrink Specials:$5 Red Velvet Shots
URL:https://starsmensclub.com/event/pre-valentines-lingerie-party/
LOCATION:Stars Men’s Club\, 5581 S Orange Blossom Trail\, Orlando\, FL\, 32839\, United States
CATEGORIES:Club,Party
ATTACH;FMTTYPE=image/jpeg:https://starsmensclub.com/wp-content/uploads/2026/02/Stars_Lingerie_Night_02132026a.jpg
END:VEVENT
BEGIN:VEVENT
DTSTART;TZID=America/New_York:20260208T183000
DTEND;TZID=America/New_York:20260208T183000
DTSTAMP:20260421T082509
CREATED:20260203T223414Z
LAST-MODIFIED:20260203T223414Z
UID:10000198-1770575400-1770575400@starsmensclub.com
SUMMARY:Super Sunday Watch Party
DESCRIPTION:Super Sunday Watch Party goes down at Stars on Sunday\, February 8th. Doors open early so you can lock in your seat before kickoff at 6:30pm. Big game on the screens\, party energy on the floor\, and specials running strong all evening. \nGame Day Perks & Drink Specials:Complimentary wings while supplies last$8 premium drinks: Crown\, Patrón\, Hennessy\, Don Julio Blanco (until 9pm)$5 well shots: Green Tea\, White Tea\, Lemon Drop$150 bottles: Milagro\, Jim Beam\, Three Olives (until 9pm) \nKick back\, catch every play\, and let the night roll on at Stars.
URL:https://starsmensclub.com/event/super-sunday-watch-party/
LOCATION:Stars Men’s Club\, 5581 S Orange Blossom Trail\, Orlando\, FL\, 32839\, United States
CATEGORIES:bottle specials,Club,drink specials,Party
ATTACH;FMTTYPE=image/jpeg:https://starsmensclub.com/wp-content/uploads/2026/02/Stars_Super_Sunday_02082026.jpg
END:VEVENT
BEGIN:VEVENT
DTSTART;TZID=America/New_York:20260207T160000
DTEND;TZID=America/New_York:20260207T160000
DTSTAMP:20260421T082509
CREATED:20260205T202305Z
LAST-MODIFIED:20260205T202305Z
UID:10000199-1770480000-1770480000@starsmensclub.com
SUMMARY:Decades Party at Stars
DESCRIPTION:Decades collide at Stars on Saturday\, February 7th. Step into a throwback party packed with old school vibes\, classic hits\, and nonstop energy from the moment the doors open. From retro style to timeless drinks\, this is a night built for nostalgia and celebration. \nDrink Specials:$5 Well ShotsGreen Tea\, White Tea\, Lemon Drop$150 BottlesMilagro\, Jim Beam\, Three Olives
URL:https://starsmensclub.com/event/decades-party-at-stars/
LOCATION:Stars Men’s Club\, 5581 S Orange Blossom Trail\, Orlando\, FL\, 32839\, United States
CATEGORIES:Club,drink specials,Party
ATTACH;FMTTYPE=image/jpeg:https://starsmensclub.com/wp-content/uploads/2026/02/Stars_Decades_Party_02072026.jpg
END:VEVENT
BEGIN:VEVENT
DTSTART;TZID=America/New_York:20260131T190000
DTEND;TZID=America/New_York:20260131T190000
DTSTAMP:20260421T082509
CREATED:20260121T205024Z
LAST-MODIFIED:20260121T205024Z
UID:10000197-1769886000-1769886000@starsmensclub.com
SUMMARY:Cartel's Birthday Bash at Stars
DESCRIPTION:Cartel’s Birthday Bash takes over Stars on Saturday\, January 31st. Celebrate with bold energy\, confident vibes\, and a high impact night built around big bottles and nonstop party momentum. \nDrink Specials:$250 Hennessy Bottles
URL:https://starsmensclub.com/event/cartels-birthday-bash-at-stars/
LOCATION:Stars Men’s Club\, 5581 S Orange Blossom Trail\, Orlando\, FL\, 32839\, United States
CATEGORIES:birthday,bottle specials,Club,Party
ATTACH;FMTTYPE=image/jpeg:https://starsmensclub.com/wp-content/uploads/2026/01/Stars_Cartels_Birthday_01312026.jpg
END:VEVENT
BEGIN:VEVENT
DTSTART;TZID=America/New_York:20260125T160000
DTEND;TZID=America/New_York:20260125T160000
DTSTAMP:20260421T082509
CREATED:20260113T164938Z
LAST-MODIFIED:20260113T164938Z
UID:10000195-1769356800-1769356800@starsmensclub.com
SUMMARY:Kennedy's Birthday Bash at Stars
DESCRIPTION:Kennedy’s Birthday Bash wraps up the weekend at Stars on Sunday\, January 25th. Join the celebration early with a laid back party vibe\, smooth drinks\, and a Sunday atmosphere that’s all about good company and easygoing fun. \nDrink Specials:$5 Well Drinks until 9pm$8 Crown\, Hennessy\, and Patrón Silver until 9pm
URL:https://starsmensclub.com/event/kennedys-birthday-bash-at-stars/
LOCATION:Stars Men’s Club\, 5581 S Orange Blossom Trail\, Orlando\, FL\, 32839\, United States
CATEGORIES:birthday,Club,Party
ATTACH;FMTTYPE=image/jpeg:https://starsmensclub.com/wp-content/uploads/2026/01/Stars_Kennedys_Birthday_01252026a.jpg
END:VEVENT
BEGIN:VEVENT
DTSTART;TZID=America/New_York:20260124T200000
DTEND;TZID=America/New_York:20260124T200000
DTSTAMP:20260421T082509
CREATED:20260113T212129Z
LAST-MODIFIED:20260114T155142Z
UID:10000196-1769284800-1769284800@starsmensclub.com
SUMMARY:Sugar and Spice Night at Stars
DESCRIPTION:Sugar & Spice Night sweetens things up at Stars on Saturday\, January 24th. Step into a playful\, candy colored fantasy where bold flavors\, flirty energy\, and late night vibes blend into a night that’s anything but subtle. \nDrink Specials:$5 Well Drinks until 9pm$8 Crown\, Hennessy\, and Patrón Silver until 9pm
URL:https://starsmensclub.com/event/sugar-and-spice-night-at-stars/
LOCATION:Stars Men’s Club\, 5581 S Orange Blossom Trail\, Orlando\, FL\, 32839\, United States
CATEGORIES:Club,drink specials,Party
ATTACH;FMTTYPE=image/jpeg:https://starsmensclub.com/wp-content/uploads/2026/01/Stars_Sugar_Spice_Night_01242026a.jpg
END:VEVENT
BEGIN:VEVENT
DTSTART;TZID=America/New_York:20260117T200000
DTEND;TZID=America/New_York:20260117T200000
DTSTAMP:20260421T082509
CREATED:20260108T152528Z
LAST-MODIFIED:20260108T152528Z
UID:10000194-1768680000-1768680000@starsmensclub.com
SUMMARY:Tuscan Night at Stars Men's Club
DESCRIPTION:Tuscan Night sets a relaxed\, upscale tone at Stars on Saturday\, January 17th. Sip\, unwind\, and enjoy a night inspired by old world charm\, smooth flavors\, and an easygoing atmosphere that feels indulgent without trying too hard. \nSpecials:$100 House Wine served with cheese and grapes
URL:https://starsmensclub.com/event/tuscan-night-at-stars-mens-club/
LOCATION:Stars Men’s Club\, 5581 S Orange Blossom Trail\, Orlando\, FL\, 32839\, United States
CATEGORIES:bottle specials,Club,Party,wine
ATTACH;FMTTYPE=image/jpeg:https://starsmensclub.com/wp-content/uploads/2026/01/Stars_Tuscan_Night_01172026.jpg
END:VEVENT
BEGIN:VEVENT
DTSTART;TZID=America/New_York:20260110T200000
DTEND;TZID=America/New_York:20260110T200000
DTSTAMP:20260421T082509
CREATED:20260106T174604Z
LAST-MODIFIED:20260106T174604Z
UID:10000192-1768075200-1768075200@starsmensclub.com
SUMMARY:Cookie's Pink Valley Birthday Bash!
DESCRIPTION:Cookie’s Pink Valley Birthday Bash takes over Stars on Saturday\, January 10th. Celebrate with vibrant pink vibes\, nonstop energy\, and a party atmosphere that builds all night long. \nDrink Specials:$250 Don Julio Reposado
URL:https://starsmensclub.com/event/cookies-pink-valley-birthday-bash/
LOCATION:Stars Men’s Club\, 5581 S Orange Blossom Trail\, Orlando\, FL\, 32839\, United States
CATEGORIES:bottle specials,Club,Party
ATTACH;FMTTYPE=image/jpeg:https://starsmensclub.com/wp-content/uploads/2026/01/Stars_Cookies_Birthday_01102025.jpg
END:VEVENT
BEGIN:VEVENT
DTSTART;TZID=America/New_York:20260109T200000
DTEND;TZID=America/New_York:20260109T200000
DTSTAMP:20260421T082509
CREATED:20260106T174717Z
LAST-MODIFIED:20260106T174717Z
UID:10000193-1767988800-1767988800@starsmensclub.com
SUMMARY:Indoor Beach Party at Stars!
DESCRIPTION:Indoor Beach Party brings tropical energy indoors at Stars on Friday\, January 9th. Escape the cold with beachy vibes\, island flavor\, and a laid back party feel that keeps summer alive all night long. \nDrink Specials:$7 Sex on the Beach starting at 8pm
URL:https://starsmensclub.com/event/indoor-beach-party-at-stars/
LOCATION:Stars Men’s Club\, 5581 S Orange Blossom Trail\, Orlando\, FL\, 32839\, United States
CATEGORIES:Club,drink specials,Party
ATTACH;FMTTYPE=image/jpeg:https://starsmensclub.com/wp-content/uploads/2026/01/Stars_Indoor_Beach_Party_01092026.jpg
END:VEVENT
BEGIN:VEVENT
DTSTART;TZID=America/New_York:20260103T160000
DTEND;TZID=America/New_York:20260103T160000
DTSTAMP:20260421T082509
CREATED:20251230T202800Z
LAST-MODIFIED:20251230T202825Z
UID:10000191-1767456000-1767456000@starsmensclub.com
SUMMARY:Rock the Night Away Party at Stars
DESCRIPTION:Rock the Night Away this Saturday at Stars.Guitars up\, drinks flowing\, and a late-night crowd ready to go.Party starts at 4pm.
URL:https://starsmensclub.com/event/rock-the-night-away-party-at-stars/
LOCATION:Stars Men’s Club\, 5581 S Orange Blossom Trail\, Orlando\, FL\, 32839\, United States
CATEGORIES:Club,drink specials,Party
ATTACH;FMTTYPE=image/jpeg:https://starsmensclub.com/wp-content/uploads/2025/12/Stars_Rock_Night_Away_01032026a.jpg
END:VEVENT
BEGIN:VEVENT
DTSTART;TZID=America/New_York:20251231T200000
DTEND;TZID=America/New_York:20251231T200000
DTSTAMP:20260421T082509
CREATED:20251224T135954Z
LAST-MODIFIED:20251224T135954Z
UID:10000190-1767211200-1767211200@starsmensclub.com
SUMMARY:New Year's Eve at Stars Men's Club
DESCRIPTION:Ring in 2026 at Stars. Doors open at 8pm with champagne vibes\, music all night\, and a packed room ready to celebrate the new year the right way.
URL:https://starsmensclub.com/event/new-years-eve-at-stars-mens-club/
LOCATION:Stars Men’s Club\, 5581 S Orange Blossom Trail\, Orlando\, FL\, 32839\, United States
CATEGORIES:Club,New Year's Eve,Party
ATTACH;FMTTYPE=image/jpeg:https://starsmensclub.com/wp-content/uploads/2025/12/Stars_New_Years_Eve_12312025.jpg
END:VEVENT
BEGIN:VEVENT
DTSTART;TZID=America/New_York:20251227T200000
DTEND;TZID=America/New_York:20251227T200000
DTSTAMP:20260421T082509
CREATED:20251211T195741Z
LAST-MODIFIED:20251222T153604Z
UID:10000188-1766865600-1766865600@starsmensclub.com
SUMMARY:Yella's Birthday Bash
DESCRIPTION:Stars is turning the lights up for Yella’s big night. Celebrate with her in the neon glow and take advantage of the 2 for $450 Mix & Match Bottles featuring Don Julio Blanco and Patron Silver. A birthday bash with all the right energy! \nIt’s also One Mercy’s Album Release Party!
URL:https://starsmensclub.com/event/yellas-birthday/
LOCATION:Stars Men’s Club\, 5581 S Orange Blossom Trail\, Orlando\, FL\, 32839\, United States
CATEGORIES:birthday,bottle specials,Club,Party
ATTACH;FMTTYPE=image/jpeg:https://starsmensclub.com/wp-content/uploads/2025/12/Stars_Yellas_Birthday_12272025.jpg
END:VEVENT
BEGIN:VEVENT
DTSTART;TZID=America/New_York:20251226T130000
DTEND;TZID=America/New_York:20251226T130000
DTSTAMP:20260421T082509
CREATED:20251203T223025Z
LAST-MODIFIED:20251203T223025Z
UID:10000186-1766754000-1766754000@starsmensclub.com
SUMMARY:Winter Luau Party
DESCRIPTION:The day after Christmas\, Friday\, December 26th\, Stars is heating things up with a tropical twist. Ice-cold drinks\, island energy\, and a winter night that feels like summer. The party lasts all day\, until close! Open at 1pm\, so come early and hula all day! \nBottle Specials:$150 Luc Belaire Luxe$150 Moët Ice
URL:https://starsmensclub.com/event/winter-luau-party/
LOCATION:Stars Men’s Club\, 5581 S Orange Blossom Trail\, Orlando\, FL\, 32839\, United States
CATEGORIES:Club,dayshift,drink specials,Party
ATTACH;FMTTYPE=image/jpeg:https://starsmensclub.com/wp-content/uploads/2025/12/Stars_Winter_Luau_12262025.jpg
END:VEVENT
BEGIN:VEVENT
DTSTART;TZID=America/New_York:20251225T160000
DTEND;TZID=America/New_York:20251225T160000
DTSTAMP:20260421T082509
CREATED:20251216T214023Z
LAST-MODIFIED:20251216T214442Z
UID:10000189-1766678400-1766678400@starsmensclub.com
SUMMARY:Open on Christmas
DESCRIPTION:Not everyone has plans on Christmas and that’s okay. Stars will be open for anyone who wants a place to kick back\, enjoy some company\, grab a drink\, and enjoy the night without the holiday stress. \nDoors open at 4PM!
URL:https://starsmensclub.com/event/open-on-christmas/
LOCATION:Stars Men’s Club\, 5581 S Orange Blossom Trail\, Orlando\, FL\, 32839\, United States
CATEGORIES:christmas party,Club,drink specials,Party
ATTACH;FMTTYPE=image/jpeg:https://starsmensclub.com/wp-content/uploads/2025/12/Stars_Christmas_Night_12252025.jpg
END:VEVENT
BEGIN:VEVENT
DTSTART;TZID=America/New_York:20251219T200000
DTEND;TZID=America/New_York:20251219T200000
DTSTAMP:20260421T082509
CREATED:20251203T201840Z
LAST-MODIFIED:20251218T145323Z
UID:10000184-1766174400-1766174400@starsmensclub.com
SUMMARY:Winter Wonderland Party at Stars
DESCRIPTION:Friday\, December 19th\, we’re turning Stars into a holiday snow-globe of good vibes\, bright lights\, and cold-season energy.
URL:https://starsmensclub.com/event/winter-wonderland-party-at-stars/
LOCATION:Stars Men’s Club\, 5581 S Orange Blossom Trail\, Orlando\, FL\, 32839\, United States
CATEGORIES:bottle specials,christmas party,Club,drink specials,Party
ATTACH;FMTTYPE=image/jpeg:https://starsmensclub.com/wp-content/uploads/2025/12/Stars_Winter_Wonderland_12192025a.jpg
END:VEVENT
BEGIN:VEVENT
DTSTART;TZID=America/New_York:20251213T130000
DTEND;TZID=America/New_York:20251213T130000
DTSTAMP:20260421T082509
CREATED:20251202T193107Z
LAST-MODIFIED:20251203T203326Z
UID:10000183-1765630800-1765630800@starsmensclub.com
SUMMARY:Ugly Sweater Party at Stars Men's Club
DESCRIPTION:Break out the tackiest\, loudest\, most questionable sweater you own.Stars is turning up the holiday chaos with our Ugly Sweater Party\, and the looks are only half the fun. \nParty is all day\, OPEN TO CLOSE! \n2 for $450 Mix & Match BottlesDon Julio Blanco • Patrón Silver
URL:https://starsmensclub.com/event/ugly-sweater-party-at-stars-mens-club/
LOCATION:Stars Men’s Club\, 5581 S Orange Blossom Trail\, Orlando\, FL\, 32839\, United States
CATEGORIES:bottle specials,christmas party,Club,drink specials,Party
ATTACH;FMTTYPE=image/jpeg:https://starsmensclub.com/wp-content/uploads/2025/12/Stars_Ugly_Sweater_Party_12132025.jpg
END:VEVENT
BEGIN:VEVENT
DTSTART;TZID=America/New_York:20251210T200000
DTEND;TZID=America/New_York:20251210T200000
DTSTAMP:20260421T082509
CREATED:20251125T134158Z
LAST-MODIFIED:20251203T203452Z
UID:10000181-1765396800-1765396800@starsmensclub.com
SUMMARY:Jenni's Y2K Birthday Bash!
DESCRIPTION:Jenni’s throwing it all the way back for a full-on Y2K Birthday Bash. Neon vibes\, retro energy\, and classic club heat all night. Pull up\, get loud\, and celebrate with her. \nSpecials until 10pm• $5 Well Shots: Green Tea\, White Tea\, Lemon Drop• $150 Bottles: Milagro\, Jim Beam\, Three Olives
URL:https://starsmensclub.com/event/jennis-y2k-birthday-bash/
LOCATION:Stars Men’s Club\, 5581 S Orange Blossom Trail\, Orlando\, FL\, 32839\, United States
CATEGORIES:birthday,bottle specials,Club,Party
ATTACH;FMTTYPE=image/jpeg:https://starsmensclub.com/wp-content/uploads/2025/11/Stars_Jennis_Y2k_Birthday_12102025.jpg
END:VEVENT
BEGIN:VEVENT
DTSTART;TZID=America/New_York:20251207T200000
DTEND;TZID=America/New_York:20251207T200000
DTSTAMP:20260421T082509
CREATED:20251204T145756Z
LAST-MODIFIED:20251204T145756Z
UID:10000187-1765137600-1765137600@starsmensclub.com
SUMMARY:DJ Energizer’s Birthday Bash
DESCRIPTION:Sunday\, December 7th\, we’re turning the night all the way up for the man himself. Big energy\, big vibes\, and the whole club celebrating.
URL:https://starsmensclub.com/event/dj-energizers-birthday-bash/
LOCATION:Stars Men’s Club\, 5581 S Orange Blossom Trail\, Orlando\, FL\, 32839\, United States
CATEGORIES:birthday,Club,Party
ATTACH;FMTTYPE=image/jpeg:https://starsmensclub.com/wp-content/uploads/2025/12/Stars_DJ_Energizers_Birthday_12072025.jpg
END:VEVENT
BEGIN:VEVENT
DTSTART;TZID=America/New_York:20251202T200000
DTEND;TZID=America/New_York:20251202T200000
DTSTAMP:20260421T082509
CREATED:20251126T185325Z
LAST-MODIFIED:20251203T203407Z
UID:10000182-1764705600-1764705600@starsmensclub.com
SUMMARY:Takeover Tuesday with Guest Bartender Leslie!
DESCRIPTION:We’ve got guest bartender Leslie from Unico Gastrobar stepping behind the bar and bringing her own flavor to the night. Big pours\, smooth energy\, and a Tuesday that does not feel like a Tuesday.
URL:https://starsmensclub.com/event/takeover-tuesday-with-guest-bartender-leslie/
LOCATION:Stars Men’s Club\, 5581 S Orange Blossom Trail\, Orlando\, FL\, 32839\, United States
CATEGORIES:Club,guest bartender,Party
ATTACH;FMTTYPE=image/jpeg:https://starsmensclub.com/wp-content/uploads/2025/11/Stars_Leslie_Takeover_Tuesday_12022025.jpg
END:VEVENT
BEGIN:VEVENT
DTSTART;TZID=America/New_York:20251129T200000
DTEND;TZID=America/New_York:20251130T020000
DTSTAMP:20260421T082509
CREATED:20251114T184137Z
LAST-MODIFIED:20251114T184137Z
UID:10000179-1764446400-1764468000@starsmensclub.com
SUMMARY:Black & White Affair at Stars
DESCRIPTION:We’re turning the night monochrome and turning the energy all the way up. Step into the Black & White Affair\, Saturday\, 11/19 and keep the vibes smooth with $150 Camus bottles all night long.
URL:https://starsmensclub.com/event/black-white-affair-at-stars/
LOCATION:Stars Men’s Club\, 5581 S Orange Blossom Trail\, Orlando\, FL\, 32839\, United States
CATEGORIES:bottle specials,Club,Party
ATTACH;FMTTYPE=image/jpeg:https://starsmensclub.com/wp-content/uploads/2025/11/Stars_Black_White_Affair_11292025.jpg
END:VEVENT
BEGIN:VEVENT
DTSTART;TZID=America/New_York:20251128T200000
DTEND;TZID=America/New_York:20251129T020000
DTSTAMP:20260421T082509
CREATED:20251113T211037Z
LAST-MODIFIED:20251113T211218Z
UID:10000178-1764360000-1764381600@starsmensclub.com
SUMMARY:Ant's Birthday Bash at Stars
DESCRIPTION:We’re closing out Thanksgiving weekend with a celebration for our Floor Host\, Ant\, and the whole city’s invited. Pull up for a night stacked with energy\, music\, and a crowd ready to go all in. \nWe’re featuring $250 D’USSÉ bottles to set the tone right.
URL:https://starsmensclub.com/event/ants-birthday-bash-at-stars/
LOCATION:Stars Men’s Club\, 5581 S Orange Blossom Trail\, Orlando\, FL\, 32839\, United States
CATEGORIES:birthday,bottle specials,Club,drink specials,Party
ATTACH;FMTTYPE=image/jpeg:https://starsmensclub.com/wp-content/uploads/2025/11/Stars_Ants_Birthday_11282025.jpg
END:VEVENT
BEGIN:VEVENT
DTSTART;TZID=America/New_York:20251123T200000
DTEND;TZID=America/New_York:20251124T020000
DTSTAMP:20260421T082509
CREATED:20251112T222431Z
LAST-MODIFIED:20251112T222431Z
UID:10000177-1763928000-1763949600@starsmensclub.com
SUMMARY:Classic Weekend Closeout Party at Stars!
DESCRIPTION:The city’s wildest weekend wraps up at Stars Gentlemen’s Club with the Florida Classic Closeout Party\, presented by Currency Events and Mike Mitch Promotions! \nWe’re ending Classic Weekend the only way Stars knows how; with bottles popping\, and the hottest crowd in Orlando. Hosted by @ED17K and @BabyTalk239\, this Sunday night blowout is guaranteed to keep the Classic energy going till 2AM.
URL:https://starsmensclub.com/event/classic-weekend-closeout-party-at-stars/
LOCATION:Stars Men’s Club\, 5581 S Orange Blossom Trail\, Orlando\, FL\, 32839\, United States
CATEGORIES:Club,currency,Party
ATTACH;FMTTYPE=image/jpeg:https://starsmensclub.com/wp-content/uploads/2025/11/Stars_Currency_Classic_Close_Out_11232025_a.jpg
END:VEVENT
BEGIN:VEVENT
DTSTART;TZID=America/New_York:20251122T130000
DTEND;TZID=America/New_York:20251123T020000
DTSTAMP:20260421T082509
CREATED:20251117T161613Z
LAST-MODIFIED:20251117T161613Z
UID:10000180-1763816400-1763863200@starsmensclub.com
SUMMARY:⭐ Classic Weekend at Stars – The Hottest Turn-Up in the City! ⭐
DESCRIPTION:Get ready for the wildest Classic Weekend celebration in Orlando — Stars is bringing the heat\, the energy\, and the vibes all weekend long. Whether you’re pulling up with the crew or sliding in solo\, this is the spot for nonstop party chaos\, sexy entertainment\, and VIP moments you’ll be talking about until next year. \nExpect wall-to-wall energy\, stunning dancers\, bottle service that keeps the night glowing\, and that Classic Weekend magic that only Stars knows how to deliver. From early turn-ups to late-night after-hours\, we’ve got specials pouring\, music blasting\, and dancers ready to keep the party lit from the moment you walk in. \nIf you know Classic Weekend… you know Stars is where the real fun happens.Make your plans\, grab your favorites\, and step into the wildest weekend of the year — we’ll be waiting. 😈✨
URL:https://starsmensclub.com/event/%e2%ad%90-classic-weekend-at-stars-the-hottest-turn-up-in-the-city-%e2%ad%90/
LOCATION:Stars Men’s Club\, 5581 S Orange Blossom Trail\, Orlando\, FL\, 32839\, United States
CATEGORIES:book your section,bottle specials,Club,currency,dayshift,drink specials,football,Party
ATTACH;FMTTYPE=image/jpeg:https://starsmensclub.com/wp-content/uploads/2025/11/Stars_Currency_Classic-112225-Saturday.jpg
END:VEVENT
BEGIN:VEVENT
DTSTART;TZID=America/New_York:20251115T200000
DTEND;TZID=America/New_York:20251116T020000
DTSTAMP:20260421T082509
CREATED:20251106T183518Z
LAST-MODIFIED:20251106T183518Z
UID:10000175-1763236800-1763258400@starsmensclub.com
SUMMARY:Muye’s All White Birthday Bash at Stars!
DESCRIPTION:Join us Saturday\, November 15th for Muye’s stunning All White Birthday Bash — an elegant night filled with luxury vibes\, smooth drinks\, and unforgettable energy. Dress in white and come ready to celebrate in true Stars style. \n🍸 Drink Specials: \n\n\n$5 White Tea Shots \n\n\n$150 Luc Belaire Luxe \n\n\n$150 Moët Ice \n\n\n5581 S Orange Blossom Trail • 407-858-1320 • StarsMensClub.com
URL:https://starsmensclub.com/event/muyes-all-white-birthday-bash-at-stars/
LOCATION:Stars Men’s Club\, 5581 S Orange Blossom Trail\, Orlando\, FL\, 32839\, United States
CATEGORIES:birthday,bottle specials,Club,drink specials,Party
ATTACH;FMTTYPE=image/jpeg:https://starsmensclub.com/wp-content/uploads/2025/11/Stars_Muyes_Birthday_11152025.jpg
END:VEVENT
BEGIN:VEVENT
DTSTART;TZID=America/New_York:20251114T200000
DTEND;TZID=America/New_York:20251115T020000
DTSTAMP:20260421T082509
CREATED:20251104T160157Z
LAST-MODIFIED:20251113T191840Z
UID:10000174-1763150400-1763172000@starsmensclub.com
SUMMARY:Denim & Diamonds Party at Stars!
DESCRIPTION:Shine bright and show off your style this Friday\, November 14th at Stars World Class Men’s Club! Whether you’re rocking denim\, dripping in sparkle\, or both\, this night’s all about laid-back luxury and high-energy fun. \nSpecial:$150 Camus Bottles \nHookah • Free Parking • Bottle ServiceParty starts at 8 PM | Open at 1 PM | 21+ to enter
URL:https://starsmensclub.com/event/denim-diamonds-party-at-stars/
LOCATION:Stars Men’s Club\, 5581 S Orange Blossom Trail\, Orlando\, FL\, 32839\, United States
CATEGORIES:bottle specials,Club,Party
ATTACH;FMTTYPE=image/jpeg:https://starsmensclub.com/wp-content/uploads/2025/11/Stars_Denim_Diamonds_11142025_a.jpg
END:VEVENT
BEGIN:VEVENT
DTSTART;TZID=America/New_York:20251107T200000
DTEND;TZID=America/New_York:20251108T020000
DTSTAMP:20260421T082509
CREATED:20251103T221729Z
LAST-MODIFIED:20251103T221729Z
UID:10000173-1762545600-1762567200@starsmensclub.com
SUMMARY:Nostalgia Night at Stars!
DESCRIPTION:Step back in time and relive the good vibes this Friday\, November 7th at Stars World Class Men’s Club! It’s a night to celebrate the memories\, the music\, and the moments that made Stars what it is today. \nSpecial: $150 Camus Bottles \nHookah • Free Parking • Bottle ServiceParty starts at 7 PM | Open at 1 PM | 21+ to enter
URL:https://starsmensclub.com/event/nostalgia-night-at-stars/
LOCATION:Stars Men’s Club\, 5581 S Orange Blossom Trail\, Orlando\, FL\, 32839\, United States
CATEGORIES:bottle specials,Club,Party
ATTACH;FMTTYPE=image/jpeg:https://starsmensclub.com/wp-content/uploads/2025/11/Stars_Nostalgia_Night_11072025.jpg
END:VEVENT
BEGIN:VEVENT
DTSTART;TZID=America/New_York:20251102T130000
DTEND;TZID=America/New_York:20251103T140000
DTSTAMP:20260421T082509
CREATED:20251028T124641Z
LAST-MODIFIED:20251028T124721Z
UID:10000172-1762088400-1762178400@starsmensclub.com
SUMMARY:Día de los Muertos Party at Stars
DESCRIPTION:Celebrate Sunday\, November 2nd\, with color\, music\, and life as Stars honors Día de los Muertos; a day to remember\, celebrate\, and party in true Latin spirit. Expect stunning looks\, lively energy\, and an unforgettable vibe all night long. \nDrink Specials (until 10 PM):\n$5 Well Shots – Green Tea\, White Tea\, Lemon Drop\n$150 Bottles – Milagro\, Jim Beam\, Three Olives \nDoors open at 1 PM | 21+ to enter
URL:https://starsmensclub.com/event/dia-de-los-muertos-party-at-stars/
LOCATION:Stars Men’s Club\, 5581 S Orange Blossom Trail\, Orlando\, FL\, 32839\, United States
CATEGORIES:bottle specials,Club,Party
ATTACH;FMTTYPE=image/jpeg:https://starsmensclub.com/wp-content/uploads/2025/10/Stars_Day_of_The_Dead_11022025.jpg
END:VEVENT
BEGIN:VEVENT
DTSTART;TZID=America/New_York:20251031T200000
DTEND;TZID=America/New_York:20251101T020000
DTSTAMP:20260421T082509
CREATED:20250930T205715Z
LAST-MODIFIED:20250930T205715Z
UID:10000170-1761940800-1761962400@starsmensclub.com
SUMMARY:Horror Halloween Party at Stars Men's Club
DESCRIPTION:Get ready for a Halloween night like no other at Stars Men’s Club on Friday\, October 31st with our Horror Party! Join us for thrills\, chills\, and a spooky-good time as we celebrate Halloween in true Stars style. \nDrink Specials (until 10 PM):\n$5 Well Shots (Green Tea\, White Tea\, Lemon Drop)\n$150 Bottles (Milagro\, Jim Beam\, Three Olives) \nDoors open at 1 PM | Party starts at 8 PM
URL:https://starsmensclub.com/event/horror-halloween-party-at-stars-mens-club/
LOCATION:Stars Men’s Club\, 5581 S Orange Blossom Trail\, Orlando\, FL\, 32839\, United States
CATEGORIES:bottle specials,Club,Costume Party,drink specials,Halloween,Party
ATTACH;FMTTYPE=image/jpeg:https://starsmensclub.com/wp-content/uploads/2025/09/Stars_Horror_Night_W_10312025.jpg
END:VEVENT
BEGIN:VEVENT
DTSTART;TZID=America/New_York:20251025T200000
DTEND;TZID=America/New_York:20251026T020000
DTSTAMP:20260421T082509
CREATED:20251003T174954Z
LAST-MODIFIED:20251003T174954Z
UID:10000171-1761422400-1761444000@starsmensclub.com
SUMMARY:Angels & Demons Affair at Stars Men's Club
DESCRIPTION:On Saturday\, October 25th\, step into a night where heavenly beauty meets devilish temptation. Whether you arrive as a saint or a sinner\, this pre-Halloween bash will set the stage for a party full of energy\, allure\, and unforgettable vibes. \nDrink Specials (until 10 PM):\n$5 Well Shots – Green Tea\, White Tea\, Lemon Drop\n$150 Bottles – Milagro\, Jim Beam\, Three Olives \nDoors open at 1 PM | Party starts at 8 PM | 21+
URL:https://starsmensclub.com/event/angels-demons-affair-at-stars-mens-club/
LOCATION:Stars Men’s Club\, 5581 S Orange Blossom Trail\, Orlando\, FL\, 32839\, United States
CATEGORIES:bottle specials,Club,Costume Party,Halloween,Party
ATTACH;FMTTYPE=image/jpeg:https://starsmensclub.com/wp-content/uploads/2025/10/Stars_Angels_And_Demons_Affair_10252025.jpg
END:VEVENT
BEGIN:VEVENT
DTSTART;TZID=America/New_York:20251017T200000
DTEND;TZID=America/New_York:20251018T020000
DTSTAMP:20260421T082509
CREATED:20250930T194914Z
LAST-MODIFIED:20250930T194914Z
UID:10000169-1760731200-1760752800@starsmensclub.com
SUMMARY:Masquerade of Sins - Pre Halloween Party
DESCRIPTION:Step into mystery at Stars on Friday\, October 17th for our Masquerade of Sins Pre-Halloween Party! A night of masks\, music\, and unforgettable vibes as we count down to Halloween weekend. \nDrink Specials (until 10 PM):\n$5 Well Shots: Green Tea\, White Tea\, Lemon Drop\n$150 Bottles: Milagro\, Jim Beam\, Three Olives \nDoors open at 1 PM | Party begins at 8 PM.
URL:https://starsmensclub.com/event/masquerade-of-sins-pre-halloween-party/
LOCATION:Stars Men’s Club\, 5581 S Orange Blossom Trail\, Orlando\, FL\, 32839\, United States
CATEGORIES:bottle specials,Club,Costume Party,drink specials,Halloween,Party
ATTACH;FMTTYPE=image/jpeg:https://starsmensclub.com/wp-content/uploads/2025/09/Stars_Masquerade_Of_Sin_Party_10172025.jpg
END:VEVENT
END:VCALENDAR